Workbook

Sheet INSTRUCTIONS
A1: COMPONENTS OF THE CASH MANAGEMENT TOOL
A3: DASHBOARD
A4: The "DASHBOARD" is a snapshot of information based on the data you enter in throughout this workbook. It's purpose is to give you some
A5: important information in a quick glance. Keep in mind, though, that the information on the DASHBOARD is only effective if you utilize the Cash
A6: Management Tool to its full extent (i.e. membership record, budget tool, as well as a collections record and payment registry).
A8: MEMBERSHIP RECORD
A9: The "Membership Record" is vital to the rest of the Cash Management Tool and, potentially, serves a dual purpose. First, the informaiton entered in the
A10: Membership Record is used on the Chapter Operations Budget Worksheet and the House-Kitchen Budget Worksheet to calculate some fo the
A11: operational expenses (i.e. Risk Management, Initiate Dues, etc.). Second, the membership information provided allows the CMT to calculate and
A12: recommend a range for member dues, as well as per member rental and meal plan/kitchen fee rates.
A14: CHAPTER OPERATIONS BUDGET WORKSHEET
A15: This budget worksheet addresses aspects of the collegiate chapter only. It does not address house or kitchen operations, if those components are
... A49: THINGS TO BE AWARE OF AS YOU GET STARTED
A52: 1 | B52: Menu cells | C52: (blue) | D52: REQUIRE you to choose some piece of information as it relates to your chapter. The information that you
B53: will be selecting from the drop down lists drives numerous calculations and scenarios factored into the Cash Management Tool (CMT).
B54: Tabs/worksheets containing these menu cells are: MEMBERSHIP RECORD, Chapter Operations Budget Worksheet, House- | P54: DASHBOARD
B55: Kitchen Budget Worksheet, BUDGET, Candidate-Initiation Fee Tracker, and the Payment Registry
A57: 2 | B57: Yellow cells indicate that information is to be typed into them.
A59: 3 | B59: There are some cells in which information will need to be entered, but they are not yellow. In these instances, these cells are light
B60: grey. With the exception of the BUDGET, if you can select a light grey cell, you will be able to enter information into the cell.
B61: You will be able to select all cells on the BUDGET, but you will only be able to enter information into the yellow cells or select | P61: MEMBERSHIP RECORD
B62: information from a blue cell on the BUDGET.
A64: 4 | B64: The CMT combines chapter operations, house operations, and kitchen operations into one tool. Combining all of these operations
B65: into one tool results in a lot of data and numbers; therefore, to help minimize the confusion, the various areas are color coded:
C66: Chapter Operations | F66: House Operations | I66: Kitchen Operations
A68: 5 | B68: If you do not wish to utilize the CMT to budget and track for House Operations and Kitchen Operations (i.e. you will use the CMT | P68: CHAPTER OPERATIONS BUDGET WORKSHEET
B69: for Chapter Operations only), go to the House-Kitchen Budget Worksheet and select "No" in cell A2.
A71: 6 | B71: The Candidate-Initiation Fee Tracker does NOT calculate into any other part of the CMT. Candidate and Initiation Fees are a zero
B72: sum item for chapters. In other words, there is not a potential positive cashflow for the chapter, house, or kitchen from these fees;
B73: however, unpaid Candidate and Initiation Fees can create a serious issue for chapters if they are not addressed and taken care of in
B74: a timely manner and this sheet can, and will, help a chapter to better track any outstanding fees as well as the memberhship
B75: information of the chapter. | P75: HOUSE - KITCHEN BUDGET WORKSHEET
A77: 7 | B77: One of the limitations of the CMT is that individual payments cannot be split between multiple lines items; therefore, if your
B78: chapter sends a payment to the General Fraternity for the first installment of the Conclave Fee and the first installment of the Risk
B79: Management Assessment, then you will need to enter these as individual payments - one for each line item.
A81: 8 | B81: To the right of each step below is a notation - Required, Needed, or Optional. Those steps marked as "required" must be completed
B82: in order for the CMT to work at a minimum functionality for budgeting. "Needed" steps are those that increase the functionality of
B83: the CMT and the information it provides and tracks. "Optional" items do not have any significant impact on the functionality of the | P83: BUDGET
B84: CMT as a budgeting tool and resource for tracking cash.
A86: STEP-BY-STEP INSTRUCTIONS
...

Sheet DASHBOARD
A1: Enter Chapter Designation - Enter Fiscal/Academic Year
D17: FALL | E17: SPRING | K17: # OWED | L17: AMT OWED
B18: LIVE IN HOUSE | D18: ='Membership Record'!G7 -> 0 | E18: ='Membership Record'!P7 -> 0 | H18: CANDIDATES FEES OWED | K18: =L18/90 -> 0 | L18: ='Candidate-Initiation Fee Tracke'!F4 -> 0
B19: LIVE OUT OF HOUSE | D19: ='Membership Record'!H7 -> 0 | E19: ='Membership Record'!Q7 -> 0 | H19: INITIATION FEES OWED | K19: =L19/220 -> 0 | L19: ='Candidate-Initiation Fee Tracke'!L4 -> 0
B20: MEAL PLAN | D20: ='Membership Record'!L7 -> 0 | E20: ='Membership Record'!U7 -> 0
K24: FALL | L24: SPRING
H25: PAST DUES OWED | K25: ='Membership Record'!I10 -> 0 | L25: ='Membership Record'!R10 -> 0
H26: PAST DUES COLLECTED | K26: =BUDGET!F14 -> 0 | L26: =BUDGET!G14 -> 0
H28: OTHER REVENUE BUDGETED | K28: =BUDGET!B18 -> 0 | L28: =BUDGET!C18 -> 0
H29: OTHER REVENUE COLLECTED | K29: =BUDGET!F18 -> 0 | L29: =BUDGET!G18 -> 0
H31: CHAPTER OPERATIONS BUDGETED REVENUE
K32: =BUDGET!B20 -> 0 | L32: =BUDGET!C20 -> 0
H34: CHAPTER OPERATIONS COLLECTED REVENUE
K35: =BUDGET!F20 -> 0 | L35: =BUDGET!G20 -> 0
H37: CHAPTER OPERATIONS
H38: REVENUE VARIANCE | K38: =BUDGET!J20 -> 0 | L38: =BUDGET!K20 -> 0
H40: COLLECTION RATE | K40: =IF(ISERROR(K35/K32),0,K35/K32) -> 0 | L40: =IF(ISERROR(L35/L32),0,L35/L32) -> 0
H41: (All Chapter Revenue)
E46: FALL | F46: SPRING
B47: HOUSE - OUT OF HOUSE
B48: BUDGETED REVENUE | E48: =BUDGET!B27 -> 0 | F48: =BUDGET!C27 -> 0
B50: HOUSE - OUT OF HOUSE
B51: COLLECTED REVENUE | E51: =BUDGET!F27 -> 0 | F51: =BUDGET!G27 -> 0
B53: HOUSE - PAST DUE RENT
B54: BUDGETED REVENUE | E54: =BUDGET!B28 -> 0 | F54: =BUDGET!C28 -> 0
B56: HOUSE - PAST DUE RENT
B57: COLLECTED REVENUE | E57: =BUDGET!F28 -> 0 | F57: =BUDGET!G28 -> 0
B59: KITCHEN - OTHER
B60: BUDGETED REVENUE | E60: =BUDGET!B47 -> 0 | F60: =BUDGET!C47 -> 0
B62: KITCHEN - OTHER
B63: COLLECTED REVENUE | E63: =BUDGET!F35 -> 0 | F63: =BUDGET!G47 -> 0
B65: COLLECTION RATE | E65: =IF(ISERROR((BUDGET!F37+BUDGET!F49)/(BUDGET!B37+BUDGET!B49)),0,(BUDGET!F37+BUDGET!F49)/(BUDGET!B37+BUDGET!B49)) -> 0 | F65: =IF(ISERROR((BUDGET!G37+BUDGET!G49)/(BUDGET!C37+BUDGET!C49)),0,(BUDGET!G37+BUDGET!G49)/(BUDGET!C37+BUDGET!C49)) -> 0
B66: (All House & Kitchen Revenue)
A89: Principal Invoices Due to Sigma Nu Fraternity, Inc. | F89: FALL | J89: SPRING
B90: RISK MANAGEMENT ASSESSMENT | F90: DUE | H90: BUDGET | I90: PAID TO DATE | J90: DUE | L90: BUDGET | M90: PAID TO DATE
B91: Installment 1 of 2 | F91: OCTOBER 1ST | H91: =IF(ISERROR(BUDGET!B54/2),0,(BUDGET!B54/2)) -> 0 | J91: FEBRUARY 15TH | L91: =IF(ISERROR(BUDGET!C54/2),0,(BUDGET!C54/2)) -> 0 | M91: =BUDGET!G54 -> 0
B92: Installment 2 of 2 | F92: NOVEMBER 1ST | H92: =IF(ISERROR(BUDGET!B54/2),0,(BUDGET!B54/2)) -> 0 | J92: MARCH 15TH | L92: =IF(ISERROR(BUDGET!C54/2),0,(BUDGET!C54/2)) -> 0
H93: =IF(ISERROR(BUDGET!B54),0,(BUDGET!B54)) -> 0 | I93: =BUDGET!F54 -> 0
B95: CONCLAVE FEE
B96: Installment 1 of 2 | F96: SEPTEMBER 15TH | H96: =BUDGET!B56/2 -> 700 | J96: MARCH 1ST | L96: =BUDGET!C56/2 -> 700
...

Sheet Membership Record
B1: ANNUAL MEMBERSHIP | E1: FALL MEMBERSHIP | N1: SPRING MEMBERSHIP | AD1: Fr | AE1: Candidate | AF1: Candidate | AG1: Commander
AD2: So | AE2: Initiate | AF2: Initiate | AG2: Lt. Commander
B3: Freshmen | D3: =COUNTIF(D11:D310,"fr") -> 0 | E3: Previous Semester Membership | N3: Previous Semester Membership | P3: =F7 -> 0 | AD3: Jr | AE3: De-pledged | AF3: Graduated/Left | AG3: Treasurer
B4: Sophomore | D4: =COUNTIF(D11:D310,"so") -> 0 | F4: # | G4: Live In House | H4: Live Out of House | I4: Past Dues | K4: Past Rent | L4: Meal Plan | O4: # | P4: Live In House | Q4: Live Out of House | R4: Past Dues | T4: Past Rent | U4: Meal Plan | AD4: Sr | AE4: Expelled | AF4: De-pledged | AG4: Recorder
B5: Junior | D5: =COUNTIF(D11:D310,"jr") -> 0 | E5: Candidates | F5: =COUNTIF(E11:E310,"candidate") -> 0 | G5: =COUNTIFS(E11:E310,"candidate",G11:G310,">0")-H5 -> 0 | H5: =COUNTIFS(E11:E310,"candidate",H11:H310,">0") -> 0 | I5: =COUNTIFS(E11:E310,"candidate",I11:I310,">0") -> 0 | K5: =COUNTIFS(E11:E310,"candidate",K11:K310,">0") -> 0 | L5: =COUNTIFS(E11:E310,"candidate",L11:L310,">0") -> 0 | N5: Candidates | O5: =COUNTIF(N11:N310,"candidate") -> 0 | P5: =COUNTIFS(N11:N310,"candidate",P11:P310,">0")-Q5 -> 0 | Q5: =COUNTIFS(N11:N310,"candidate",Q11:Q310,">0") -> 0 | R5: =COUNTIFS(N11:N310,"candidate",R11:R310,">0") -> 0 | T5: =COUNTIFS(N11:N310,"candidate",T11:T310,">0") -> 0 | U5: =COUNTIFS(N11:N310,"candidate",U11:U310,">0") -> 0 | AF5: Expelled | AG5: Marshal
B6: Senior | D6: =COUNTIF(D11:D310,"sr") -> 0 | E6: Initiates | F6: =COUNTIF(E11:E310,"initiate") -> 0 | G6: =COUNTIFS(E11:E310,"initiate",G11:G310,">0")-H6 -> 0 | H6: =COUNTIFS(E11:E310,"initiate",H11:H310,">0") -> 0 | I6: =COUNTIFS(E11:E310,"initiate",I11:I310,">0") -> 0 | K6: =COUNTIFS(E11:E310,"initiate",K11:K310,">0") -> 0 | L6: =COUNTIFS(E11:E310,"initiate",L11:L310,">0") -> 0 | N6: Initiates | O6: =COUNTIF(N11:N310,"initiate") -> 0 | P6: =COUNTIFS(N11:N310,"initiate",P11:P310,">0")-Q6 -> 0 | Q6: =COUNTIFS(N11:N310,"initiate",Q11:Q310,">0") -> 0 | R6: =COUNTIFS(N11:N310,"initiate",R11:R310,">0") -> 0 | T6: =COUNTIFS(N11:N310,"initiate",T11:T310,">0") -> 0 | U6: =COUNTIFS(N11:N310,"initiate",U11:U310,">0") -> 0 | AG6: Chaplain
B7: Total Members | D7: =SUM(D3:D6) -> 0 | E7: Total Members | F7: =SUM(F5:F6) -> 0 | G7: =SUM(G5:G6) -> 0 | H7: =SUM(H5:H6) -> 0 | I7: =SUM(I5:I6) -> 0 | K7: =SUM(K5:K6) -> 0 | L7: =SUM(L5:L6) -> 0 | N7: Total Members | O7: =SUM(O5:O6) -> 0 | P7: =SUM(P5:P6) -> 0 | Q7: =SUM(Q5:Q6) -> 0 | R7: =SUM(R5:R6) -> 0 | T7: =SUM(T5:T6) -> 0 | U7: =SUM(U5:U6) -> 0 | AG7: LEAD
AG8: Recruitment
E9: Membership Status | F9: Officer Position | G9: Chapter Member Dues | H9: Out of House Dues | I9: Past Dues Owed | J9: Rent | K9: Past Rent Owed | L9: Meal Plan/ Kitchen | N9: Membership Status | O9: Officer Position | P9: Chapter Member Dues | Q9: Out of House Dues | R9: Past Dues Owed | S9: Rent | T9: Past Rent Owed | U9: Meal Plan/ Kitchen | AG9: Alumni Relations
B10: Name | D10: Yr In School | G10: =SUM(G11:G310) -> 0 | H10: =SUM(H11:H310) -> 0 | I10: =SUM(I11:I310) -> 0 | J10: =SUM(J11:J310) -> 0 | K10: =SUM(K11:K310) -> 0 | L10: =SUM(L11:L310) -> 0 | P10: =SUM(P11:P310) -> 0 | Q10: =SUM(Q11:Q310) -> 0 | R10: =SUM(R11:R310) -> 0 | S10: =SUM(S11:S310) -> 0 | T10: =SUM(T11:T310) -> 0 | U10: =SUM(U11:U310) -> 0 | AG10: Sentinel
A11: 1 | J11: =IF(H11>0,0,IF(G11>0,"Enter Rent $",0)) -> 0 | S11: =IF(Q11>0,0,IF(P11>0,"Enter Rent $",0)) -> 0 | AG11: Reporter
A12: =A11+1 -> 2 | J12: =IF(H12>0,0,IF(G12>0,"Enter Rent $",0)) -> 0 | S12: =IF(Q12>0,0,IF(P12>0,"Enter Rent $",0)) -> 0 | AG12: Historian
A13: =A12+1 -> 3 | J13: =IF(H13>0,0,IF(G13>0,"Enter Rent $",0)) -> 0 | S13: =IF(Q13>0,0,IF(P13>0,"Enter Rent $",0)) -> 0
A14: =A13+1 -> 4 | J14: =IF(H14>0,0,IF(G14>0,"Enter Rent $",0)) -> 0 | S14: =IF(Q14>0,0,IF(P14>0,"Enter Rent $",0)) -> 0
A15: =A14+1 -> 5 | J15: =IF(H15>0,0,IF(G15>0,"Enter Rent $",0)) -> 0 | S15: =IF(Q15>0,0,IF(P15>0,"Enter Rent $",0)) -> 0
A16: =A15+1 -> 6 | J16: =IF(H16>0,0,IF(G16>0,"Enter Rent $",0)) -> 0 | S16: =IF(Q16>0,0,IF(P16>0,"Enter Rent $",0)) -> 0
A17: =A16+1 -> 7 | J17: =IF(H17>0,0,IF(G17>0,"Enter Rent $",0)) -> 0 | S17: =IF(Q17>0,0,IF(P17>0,"Enter Rent $",0)) -> 0
A18: =A17+1 -> 8 | J18: =IF(H18>0,0,IF(G18>0,"Enter Rent $",0)) -> 0 | S18: =IF(Q18>0,0,IF(P18>0,"Enter Rent $",0)) -> 0
A19: =A18+1 -> 9 | J19: =IF(H19>0,0,IF(G19>0,"Enter Rent $",0)) -> 0 | S19: =IF(Q19>0,0,IF(P19>0,"Enter Rent $",0)) -> 0
A20: =A19+1 -> 10 | J20: =IF(H20>0,0,IF(G20>0,"Enter Rent $",0)) -> 0 | S20: =IF(Q20>0,0,IF(P20>0,"Enter Rent $",0)) -> 0
A21: =A20+1 -> 11 | J21: =IF(H21>0,0,IF(G21>0,"Enter Rent $",0)) -> 0 | S21: =IF(Q21>0,0,IF(P21>0,"Enter Rent $",0)) -> 0
A22: =A21+1 -> 12 | J22: =IF(H22>0,0,IF(G22>0,"Enter Rent $",0)) -> 0 | S22: =IF(Q22>0,0,IF(P22>0,"Enter Rent $",0)) -> 0
A23: =A22+1 -> 13 | J23: =IF(H23>0,0,IF(G23>0,"Enter Rent $",0)) -> 0 | S23: =IF(Q23>0,0,IF(P23>0,"Enter Rent $",0)) -> 0
A24: =A23+1 -> 14 | J24: =IF(H24>0,0,IF(G24>0,"Enter Rent $",0)) -> 0 | S24: =IF(Q24>0,0,IF(P24>0,"Enter Rent $",0)) -> 0
... A310: =A309+1 -> 300 | J310: =IF(H310>0,0,IF(G310>0,"Enter Rent $",0)) -> 0 | S310: =IF(Q310>0,0,IF(P310>0,"Enter Rent $",0)) -> 0

Sheet Ch Operations Budget Worksheet
B1: FALL | G1: SPRING | AA1: Tier | AB1: GLE Comp | AC1: Proj. % Inc.
A2: OPERATIONAL COSTS | B2: Tier Assignment | C2: Per Member Rate | D2: Previous Semester Membership | E2: EXPECTED COST | G2: Tier Assignment | H2: Per Member Rate | I2: Previous Semester Membership | J2: EXPECTED COST | AA2: 1 | AB2: Yes | AC2: 0
A3: Risk Management | B3: 1 | C3: =IF(B3=1,"$140.00",IF(B3=2,"$165.00",IF(B3=3,"$185.00",IF(B3=4,"$195.00",IF(B3=5,"$220.00","ERROR"))))) -> $140.00 | D3: ='Membership Record'!G3 -> 0 | E3: =IF(ISERROR(C3*D3),0,C3*D3) -> 0 | G3: =B3 -> 1 | H3: =IF(G3=1,"$140.00",IF(G3=2,"$165.00",IF(G3=3,"$185.00",IF(G3=4,"$195.00",IF(G3=5,"$220.00","ERROR"))))) -> $140.00 | I3: ='Membership Record'!P3 -> 0 | J3: =IF(ISERROR(H3*I3),0,H3*I3) -> 0 | AA3: 2 | AB3: No | AC3: 0.01
AA4: 3 | AC4: 0.02
A5: Initiate Dues | D5: Current Semester Initiates | I5: Current Semester Initiates | AA5: 4 | AC5: 0.03
B6: → | C6: 72.5 | D6: ='Membership Record'!F6 -> 0 | E6: =C6*D6 -> 0 | G6: → | H6: 72.5 | I6: ='Membership Record'!O6 -> 0 | J6: =H6*I6 -> 0 | AA6: 5 | AC6: 0.04
AC7: 0.05
A8: IFC/University Dues | D8: Current Semester Membership | I8: Current Semester Membership | AC8: 0.06
B9: → | D9: ='Membership Record'!F7 -> 0 | E9: =C9*D9 -> 0 | G9: → | I9: ='Membership Record'!O7 -> 0 | J9: =H9*I9 -> 0 | AC9: 0.07
AC10: 0.08
A11: Conclave Fee | B11: → | C11: → | D11: → | E11: 1400 | G11: → | H11: → | I11: → | J11: 1400 | AC11: 0.09
AC12: 0.1
A13: GreekLifeEdu Surcharge | B13: 90% Member Completion Met Prior Yr. | D13: Previous Semester Membership
C14: 25 | D14: ='Membership Record'!G3 -> 0 | E14: =IF(AND(B14="Yes"),"$0.00",C14*D14) -> 0 | H14: 0 | I14: 0 | J14: 0
B16: Prior Yr. Cost | C16: Projected Increase - % | D16: Projected Increase - $ | G16: Prior Yr. Cost | H16: Projected Increase - % | I16: Projected Increase - $
A17: Accountant Fees | C17: 0 | D17: =B17*C17 -> 0 | E17: =B17+D17 -> 0 | H17: 0 | I17: =G17*H17 -> 0 | J17: =G17+I17 -> 0
A18: Form 990 - CPA filing fee(s) | C18: 0 | D18: =B18*C18 -> 0 | E18: =B18+D18 -> 0 | H18: 0 | I18: =G18*H18 -> 0 | J18: =G18+I18 -> 0
A19: Banking Related Expenses | C19: 0 | D19: =B19*C19 -> 0 | E19: =B19+D19 -> 0 | H19: 0 | I19: =G19*H19 -> 0 | J19: =G19+I19 -> 0
A21: Debt Expense/Payment | B21: Existing Debt Balance | C21: 25% of Debt Balance | D21: 50% of Debt Balance | G21: Existing Debt Balance | H21: 25% of Debt Balance | I21: 50% of Debt Balance
C22: =B22*0.25 -> 0 | D22: =B22*0.5 -> 0 | H22: =G22*0.25 -> 0 | I22: =G22*0.5 -> 0
A24: Empty Bed Expense (to House Ops) | B24: → | C24: → | D24: → | E24: ='House-Kitchen Budget Worksheet'!H53 -> 0 | G24: → | H24: → | I24: → | J24: ='House-Kitchen Budget Worksheet'!H54 -> 0
A27: Total Operational Costs | B27: → | C27: → | D27: → | E27: =IF(ISERROR(SUM(E3:E26)),0,(SUM(E3:E26))) -> 1400 | G27: → | H27: → | I27: → | J27: =IF(ISERROR(SUM(J3:J26)),0,SUM(J3:J26)) -> 1400
A29: Operational Costs Per Member (All) | C29: → | E29: =IF(ISERROR(E27/'Membership Record'!F7),0,E27/'Membership Record'!F7) -> 0 | H29: → | J29: =IF(ISERROR(J27/'Membership Record'!O7),0,J27/'Membership Record'!O7) -> 0
A30: Operational Costs Per Initiate | C30: → | E30: =IF(ISERROR(E27/'Membership Record'!F6),0,E27/'Membership Record'!F6) -> 0 | H30: → | J30: =IF(ISERROR(J27/'Membership Record'!O6),0,J27/'Membership Record'!O6) -> 0
A32: FUNCTIONAL COSTS
B34: REQUESTED | C34: ADJUSTMENT | D34: BUDGET | G34: REQUESTED | H34: ADJUSTMENT | I34: BUDGET
A35: Savings Fund | D35: =B35+C35 -> 0 | I35: =G35+H35 -> 0
A36: Recruitment | D36: =B36+C36 -> 0 | I36: =G36+H36 -> 0
A37: Candidate Education Activities | D37: =B37+C37 -> 0 | I37: =G37+H37 -> 0
A38: Alumni Relations/Activities | D38: =B38+C38 -> 0 | I38: =G38+H38 -> 0
A39: Member Education (LEAD) | D39: =B39+C39 -> 0 | I39: =G39+H39 -> 0
A40: Conclave - Travel and Expenses | D40: =B40+C40 -> 0 | I40: =G40+H40 -> 0
A41: Chapter/Executive Retreat | D41: =B41+C41 -> 0 | I41: =G41+H41 -> 0
A42: Brotherhood Activities | D42: =B42+C42 -> 0 | I42: =G42+H42 -> 0
A43: Community Service/Philanthropy | D43: =B43+C43 -> 0 | I43: =G43+H43 -> 0
A44: Scholarship/Academic Affairs | D44: =B44+C44 -> 0 | I44: =G44+H44 -> 0
A45: Homecoming/Greek Week | D45: =B45+C45 -> 0 | I45: =G45+H45 -> 0
A46: Composite | D46: =B46+C46 -> 0 | I46: =G46+H46 -> 0
... A59: Chapter - Other (rename #5) | D59: =B59+C59 -> 0 | I59: =G59+H59 -> 0
A60: Total Functional Costs | B60: =SUM(B35:B59) -> 0 | C60: =SUM(C35:C59) -> 0 | D60: =SUM(D35:D59) -> 0 | G60: =SUM(G35:G59) -> 0 | H60: =SUM(H35:H59) -> 0 | I60: =SUM(I35:I59) -> 0
...

Sheet House-Kitchen Budget Worksheet
A1: Have a house and meal plan?
A3: Length of Lease/Meal Plan | C3: PRIOR YR COST | D3: PROJECTED INCREASE - % | E3: PROJECTED INCREASE - $ | F3: EXPECTED COST - ANNUAL | G3: EXPECTED PER MONTH (12 mo.) | H3: EXPECTED PER MONTH (9 mo) | I3: Out of House Dues
A4: 12 months | J4: 12 Mo. | K4: 9 Mo.
A5: HOUSE OPERATING COSTS | I5: Max Occupancy | J5: Out of House Initiates - as of Start of Academic Year | Z5: Yes | AA5: 9 months | AB5: 0
Z6: No | AA6: 12 months | AB6: 0.01
J7: ='Membership Record'!H6 -> 0 | AB7: 0.02
A8: Rent (Chapter pays to House Corp/Landlord) | D8: 0 | E8: =C8*D8 -> 0 | F8: =C8+E8 -> 0 | G8: =F8/12 -> 0 | H8: =F8/9 -> 0 | I8: % of line item cost to charge | AB8: 0.03
A9: Insurance | D9: 0 | E9: =C9*D9 -> 0 | F9: =C9+E9 -> 0 | G9: =F9/12 -> 0 | H9: =F9/9 -> 0 | I9: 0 | J9: =G9*I9 -> 0 | K9: =H9*I9 -> 0 | AB9: 0.04
A10: Household Supplies | D10: 0 | E10: =C10*D10 -> 0 | F10: =C10+E10 -> 0 | G10: =F10/12 -> 0 | H10: =F10/9 -> 0 | I10: 0 | J10: =G10*I10 -> 0 | K10: =H10*I10 -> 0 | AB10: 0.05
A11: Repairs | AB11: 0.06
A12: Windows | D12: 0 | E12: =C12*D12 -> 0 | F12: =C12+E12 -> 0 | G12: =F12/12 -> 0 | H12: =F12/9 -> 0 | I12: 0 | J12: =G12*I12 -> 0 | K12: =H12*I12 -> 0 | AB12: 0.07
A13: Doors | D13: 0 | E13: =C13*D13 -> 0 | F13: =C13+E13 -> 0 | G13: =F13/12 -> 0 | H13: =F13/9 -> 0 | I13: 0 | J13: =G13*I13 -> 0 | K13: =H13*I13 -> 0 | AB13: 0.08
A14: Appliances | D14: 0 | E14: =C14*D14 -> 0 | F14: =C14+E14 -> 0 | G14: =F14/12 -> 0 | H14: =F14/9 -> 0 | I14: 0 | J14: =G14*I14 -> 0 | K14: =H14*I14 -> 0 | AB14: 0.09
A15: Flooring | D15: 0 | E15: =C15*D15 -> 0 | F15: =C15+E15 -> 0 | G15: =F15/12 -> 0 | H15: =F15/9 -> 0 | I15: 0 | J15: =G15*I15 -> 0 | K15: =H15*I15 -> 0 | AB15: 0.1
A16: Lighting | D16: 0 | E16: =C16*D16 -> 0 | F16: =C16+E16 -> 0 | G16: =F16/12 -> 0 | H16: =F16/9 -> 0 | I16: 0 | J16: =G16*I16 -> 0 | K16: =H16*I16 -> 0
A17: Exterior | D17: 0 | E17: =C17*D17 -> 0 | F17: =C17+E17 -> 0 | G17: =F17/12 -> 0 | H17: =F17/9 -> 0 | I17: 0 | J17: =G17*I17 -> 0 | K17: =H17*I17 -> 0
A18: Other | D18: 0 | E18: =C18*D18 -> 0 | F18: =C18+E18 -> 0 | G18: =F18/12 -> 0 | H18: =F18/9 -> 0 | I18: 0 | J18: =G18*I18 -> 0 | K18: =H18*I18 -> 0
A19: Maintenance
A20: Lawn/Grounds | D20: 0 | E20: =C20*D20 -> 0 | F20: =C20+E20 -> 0 | G20: =F20/12 -> 0 | H20: =F20/9 -> 0 | I20: 0 | J20: =G20*I20 -> 0 | K20: =H20*I20 -> 0
A21: Pest Control | D21: 0 | E21: =C21*D21 -> 0 | F21: =C21+E21 -> 0 | G21: =F21/12 -> 0 | H21: =F21/9 -> 0 | I21: 0 | J21: =G21*I21 -> 0 | K21: =H21*I21 -> 0
A22: HVAC | D22: 0 | E22: =C22*D22 -> 0 | F22: =C22+E22 -> 0 | G22: =F22/12 -> 0 | H22: =F22/9 -> 0 | I22: 0 | J22: =G22*I22 -> 0 | K22: =H22*I22 -> 0
A23: Other | D23: 0 | E23: =C23*D23 -> 0 | F23: =C23+E23 -> 0 | G23: =F23/12 -> 0 | H23: =F23/9 -> 0 | I23: 0 | J23: =G23*I23 -> 0 | K23: =H23*I23 -> 0
A24: Electricity | D24: 0 | E24: =C24*D24 -> 0 | F24: =C24+E24 -> 0 | G24: =F24/12 -> 0 | H24: =F24/9 -> 0 | I24: 0 | J24: =G24*I24 -> 0 | K24: =H24*I24 -> 0
A25: Gas | D25: 0 | E25: =C25*D25 -> 0 | F25: =C25+E25 -> 0 | G25: =F25/12 -> 0 | H25: =F25/9 -> 0 | I25: 0 | J25: =G25*I25 -> 0 | K25: =H25*I25 -> 0
A26: Water | D26: 0 | E26: =C26*D26 -> 0 | F26: =C26+E26 -> 0 | G26: =F26/12 -> 0 | H26: =F26/9 -> 0 | I26: 0 | J26: =G26*I26 -> 0 | K26: =H26*I26 -> 0
A27: Sewer | D27: 0 | E27: =C27*D27 -> 0 | F27: =C27+E27 -> 0 | G27: =F27/12 -> 0 | H27: =F27/9 -> 0 | I27: 0 | J27: =G27*I27 -> 0 | K27: =H27*I27 -> 0
A28: Garbage | D28: 0 | E28: =C28*D28 -> 0 | F28: =C28+E28 -> 0 | G28: =F28/12 -> 0 | H28: =F28/9 -> 0 | I28: 0 | J28: =G28*I28 -> 0 | K28: =H28*I28 -> 0
A29: Cable/Satellite | D29: 0 | E29: =C29*D29 -> 0 | F29: =C29+E29 -> 0 | G29: =F29/12 -> 0 | H29: =F29/9 -> 0 | I29: 0 | J29: =G29*I29 -> 0 | K29: =H29*I29 -> 0
A30: Internet | D30: 0 | E30: =C30*D30 -> 0 | F30: =C30+E30 -> 0 | G30: =F30/12 -> 0 | H30: =F30/9 -> 0 | I30: 0 | J30: =G30*I30 -> 0 | K30: =H30*I30 -> 0
A31: Telephone | D31: 0 | E31: =C31*D31 -> 0 | F31: =C31+E31 -> 0 | G31: =F31/12 -> 0 | H31: =F31/9 -> 0 | I31: 0 | J31: =G31*I31 -> 0 | K31: =H31*I31 -> 0
... A37: Miscellaneous | D37: 0 | E37: =C37*D37 -> 0 | F37: =C37+E37 -> 0 | G37: =F37/12 -> 0 | H37: =F37/9 -> 0 | I37: 0 | J37: =G37*I37 -> 0 | K37: =H37*I37 -> 0
A39: TOTAL HOUSING COSTS | F39: =SUM(F8:F37) -> 0 | G39: =IF(A4="12 months",SUM(G8:G37),"") -> 0 | H39: =IF(A4="9 months",SUM(H8:H37),"") | J39: =SUM(J9:J37) -> 0 | K39: =SUM(K9:K37) -> 0
G41: at Max Occupancy
A42: PROJECTED PER MEMBER RENT | F42: =IF(ISERROR(F39/I7),0,F39/I7) -> 0 | G42: =IF(ISERROR(IF(A4="12 months",G39/I7,"")),0,IF(A4="12 months",G39/I7,"")) -> 0 | H42: =IF(ISERROR(IF(A4="9 months",H39/I7,"")),0,IF(A4="9 months",H39/I7,"")) | I42: Per Month
F44: FALL | G44: =IF(A4="12 months",G42*6,"") -> 0 | H44: =IF(A4="9 months",H42*5,"") | I44: Per Semester
F45: SPRING | G45: =IF(A4="12 months",G42*6,"") -> 0 | H45: =IF(A4="9 months",H42*4,"")
A47: SUGGESTED DUES PER OUT OF HOUSE MEMBER (in addition to standard member dues) | I47: ANNUAL | J47: =IF(ISERROR(IF(A4="12 months",J39/J7,"")),0,IF(A4="12 months",J39/J7,"")) -> 0 | K47: =IF(ISERROR(IF(A4="9 months",K39/J7,"")),0,IF(A4="9 months",K39/J7,""))
I49: FALL | J49: =IF(A4="12 months",J47/2,"") -> 0 | K49: =IF(A4="9 months",K47/2,"") | L49: Per Semester
I50: SPRING | J50: =IF(A4="12 months",J47/2,"") -> 0 | K50: =IF(A4="9 months",K47/2,"")
A52: SUGGESTED EMPTY BED REVENUE (from Chapter Operations) | G52: EMPTY BEDS | H52: AMOUNT
...

Sheet BUDGET
B1: BUDGET | F1: ACTUAL - YEAR TO DATE | J1: VARIANCE | M1: MONTHLY ACTUALS - FALL | S1: MONTHLY ACTUALS - SPRING
B2: FALL | C2: SPRING | D2: ANNUAL | F2: FALL | G2: SPRING | H2: ANNUAL | J2: FALL | K2: SPRING | L2: ANNUAL | M2: JULY | N2: AUGUST | O2: SEPTEMBER | P2: OCTOBER | Q2: NOVEMBER | R2: DECEMBER | S2: JANUARY | T2: FEBRUARY | U2: MARCH | V2: APRIL | W2: MAY | X2: JUNE
A3: REVENUE | AA3: Budgeted fall surplus/(deficit)
A4: CHAPTER OPERATIONS | AA4: Actual fall surplus/(deficit)
A5: Beginning Bank Balance | B5: 0 | C5: =IF(C3="",0,IF(C3="Budgeted fall surplus/(deficit)",B109,IF(C3="Actual fall surplus/(deficit)",F109,0))) -> 0 | F5: =B5 -> 0 | G5: =F109 -> 0 | M5: =F5 -> 0 | N5: =M109 -> 0 | O5: =N109 -> 0 | P5: =O109 -> 0 | Q5: =P109 -> 0 | R5: =Q109 -> 0 | S5: =R109 -> 0 | T5: =S109 -> 0 | U5: =T109 -> 0 | ... X5: =W109 -> 0
A7: Chapter Member Dues | B7: ='Membership Record'!G10 -> 0 | C7: ='Membership Record'!P10 -> 0 | D7: =SUM(B7:C7) -> 0 | F7: =SUM(M7:R7) -> 0 | G7: =SUM(S7:X7) -> 0 | H7: =SUM(F7:G7) -> 0 | J7: =F7-B7 -> 0 | K7: =G7-B7 -> 0 | L7: =SUM(J7:K7) -> 0 | M7: ='Accounts Receivable-Collections'!P9 -> 0 | N7: ='Accounts Receivable-Collections'!V9 -> 0 | O7: ='Accounts Receivable-Collections'!AB9 -> 0 | P7: ='Accounts Receivable-Collections'!AH9 -> 0 | Q7: ='Accounts Receivable-Collections'!AN9 -> 0 | R7: ='Accounts Receivable-Collections'!AT9 -> 0 | S7: ='Accounts Receivable-Collections'!AZ9 -> 0 | T7: ='Accounts Receivable-Collections'!BF9 -> 0 | U7: ='Accounts Receivable-Collections'!BL9 -> 0 | V7: ='Accounts Receivable-Collections'!BR9 -> 0 | W7: ='Accounts Receivable-Collections'!BX9 -> 0 | X7: ='Accounts Receivable-Collections'!CD9 -> 0
A8: Member Dues Subtotal | B8: =SUM(B7:B7) -> 0 | C8: =SUM(C7:C7) -> 0 | D8: =SUM(B8:C8) -> 0 | F8: =SUM(F7:F7) -> 0 | G8: =SUM(G7:G7) -> 0 | H8: =SUM(F8:G8) -> 0 | J8: =SUM(J7:J7) -> 0 | K8: =SUM(K7:K7) -> 0 | L8: =SUM(J8:K8) -> 0
A9: Uncollected Adjustment (10%) | B9: =-(B8*0.1) -> 0 | C9: =-(C8*0.1) -> 0 | D9: =-(D8*0.1) -> 0
A10: Member Dues Total | B10: =B8+B9 -> 0 | C10: =C8+C9 -> 0 | D10: =D8+D9 -> 0 | F10: =SUM(M10:R10) -> 0 | G10: =SUM(S10:X10) -> 0 | H10: =SUM(F10:G10) -> 0 | J10: =F10-B10 -> 0 | K10: =G10-C10 -> 0 | L10: =SUM(J10:K10) -> 0 | M10: =SUM(M7:M7) -> 0 | N10: =SUM(N7:N7) -> 0 | O10: =SUM(O7:O7) -> 0 | P10: =SUM(P7:P7) -> 0 | Q10: =SUM(Q7:Q7) -> 0 | R10: =SUM(R7:R7) -> 0 | S10: =SUM(S7:S7) -> 0 | T10: =SUM(T7:T7) -> 0 | ... X10: =SUM(X7:X7) -> 0
A12: Past Dues Owed | B12: ='Membership Record'!I10 -> 0 | C12: ='Membership Record'!R10 -> 0 | D12: =SUM(B12:C12) -> 0 | F12: =SUM(M12:R12) -> 0 | G12: =SUM(S12:X12) -> 0 | H12: =SUM(F12:G12) -> 0 | J12: =F12-B12 -> 0 | K12: =G12-C12 -> 0 | L12: =SUM(J12:K12) -> 0 | M12: ='Accounts Receivable-Collections'!Q9 -> 0 | N12: ='Accounts Receivable-Collections'!W9 -> 0 | O12: ='Accounts Receivable-Collections'!AC9 -> 0 | P12: ='Accounts Receivable-Collections'!AI9 -> 0 | Q12: ='Accounts Receivable-Collections'!AO9 -> 0 | R12: ='Accounts Receivable-Collections'!AU9 -> 0 | S12: ='Accounts Receivable-Collections'!BA9 -> 0 | T12: ='Accounts Receivable-Collections'!BG9 -> 0 | U12: ='Accounts Receivable-Collections'!BM9 -> 0 | V12: ='Accounts Receivable-Collections'!BS9 -> 0 | W12: ='Accounts Receivable-Collections'!BY9 -> 0 | X12: ='Accounts Receivable-Collections'!CE9 -> 0
A13: Uncollected Adjustment (50%) | B13: =-(B12*0.5) -> 0 | C13: =-(C12*0.5) -> 0 | D13: =-(D12*0.5) -> 0
A14: Past Dues Owed Total | B14: =B12+B13 -> 0 | C14: =C12+C13 -> 0 | D14: =D12+D13 -> 0 | F14: =F12 -> 0 | G14: =G12 -> 0 | H14: =SUM(F14:G14) -> 0 | J14: =F14-B14 -> 0 | K14: =G14-C14 -> 0 | L14: =SUM(J14:K14) -> 0 | M14: =M12 -> 0 | N14: =N12 -> 0 | O14: =O12 -> 0 | P14: =P12 -> 0 | Q14: =Q12 -> 0 | R14: =R12 -> 0 | S14: =S12 -> 0 | T14: =T12 -> 0 | ... X14: =X12 -> 0
A16: Other Revenue | C16: 0 | D16: =SUM(B16:C16) -> 0 | F16: =SUM(M16:R16) -> 0 | G16: =SUM(S16:X16) -> 0 | H16: =SUM(F16:G16) -> 0 | J16: =F16-B16 -> 0 | K16: =G16-C16 -> 0 | L16: =SUM(J16:K16) -> 0 | M16: ='Accounts Receivable-Collections'!S3 -> 0 | N16: ='Accounts Receivable-Collections'!Y3 -> 0 | O16: ='Accounts Receivable-Collections'!AE3 -> 0 | P16: ='Accounts Receivable-Collections'!AK3 -> 0 | Q16: ='Accounts Receivable-Collections'!AQ3 -> 0 | R16: ='Accounts Receivable-Collections'!AW3 -> 0 | S16: ='Accounts Receivable-Collections'!BC3 -> 0 | T16: ='Accounts Receivable-Collections'!BI3 -> 0 | U16: ='Accounts Receivable-Collections'!BO3 -> 0 | V16: ='Accounts Receivable-Collections'!BU3 -> 0 | W16: ='Accounts Receivable-Collections'!CA3 -> 0 | X16: ='Accounts Receivable-Collections'!CG3 -> 0
A17: Uncollected Adjustment (20%) | B17: =-(B16*0.2) -> 0 | C17: =-(C16*0.2) -> 0 | D17: =SUM(B17:C17) -> 0
A18: Other Revenue Total | B18: =B16+B17 -> 0 | C18: =C16+C17 -> 0 | D18: =D16+D17 -> 0 | F18: =F16 -> 0 | G18: =G16 -> 0 | H18: =SUM(F18:G18) -> 0 | J18: =F18-B18 -> 0 | K18: =G18-C18 -> 0 | L18: =H18-D18 -> 0 | M18: ='Accounts Receivable-Collections'!S3 -> 0 | N18: ='Accounts Receivable-Collections'!Y3 -> 0 | O18: ='Accounts Receivable-Collections'!AE3 -> 0 | P18: ='Accounts Receivable-Collections'!AK3 -> 0 | Q18: ='Accounts Receivable-Collections'!AQ3 -> 0 | R18: ='Accounts Receivable-Collections'!AW3 -> 0 | S18: ='Accounts Receivable-Collections'!BC3 -> 0 | T18: ='Accounts Receivable-Collections'!BI3 -> 0 | U18: ='Accounts Receivable-Collections'!BO3 -> 0 | V18: ='Accounts Receivable-Collections'!BU3 -> 0 | W18: ='Accounts Receivable-Collections'!CA3 -> 0 | X18: ='Accounts Receivable-Collections'!CG3 -> 0
A20: TOTAL CHAPTER OPERATIONS REVENUE | B20: =B5+B10+B14+B18 -> 0 | C20: =C5+C10+C14+C18 -> 0 | D20: =SUM(B20:C20) -> 0 | F20: =F5+F10+F14+F18 -> 0 | G20: =G5+G10+G14+G18 -> 0 | H20: =SUM(F20:G20) -> 0 | J20: =F20-B20 -> 0 | K20: =G20-C20 -> 0 | L20: =H20-D20 -> 0 | M20: =M5+M10+M14+M18 -> 0 | N20: =N5+N10+N14+N18 -> 0 | O20: =O5+O10+O14+O18 -> 0 | P20: =P5+P10+P14+P18 -> 0 | Q20: =Q5+Q10+Q14+Q18 -> 0 | R20: =R5+R10+R14+R18 -> 0 | S20: =S5+S10+S14+S18 -> 0 | T20: =T5+T10+T14+T18 -> 0 | ... X20: =X5+X10+X14+X18 -> 0
A22: HOUSE OPERATIONS
A24: Beginning Balance | B24: 0 | C24: =IF(C22="",0,IF(C22="Budgeted fall surplus/(deficit)",B145,IF(C22="Actual fall surplus/(deficit)",F145,0))) -> 0 | F24: =B24 -> 0 | G24: =F145 -> 0
A26: Rent (members living in house) | B26: ='Membership Record'!J10 -> 0 | C26: ='Membership Record'!S10 -> 0 | D26: =SUM(B26:C26) -> 0 | F26: =SUM(M26:R26) -> 0 | G26: =SUM(S26:X26) -> 0 | H26: =SUM(F26:G26) -> 0 | J26: =F26-B26 -> 0 | K26: =G26-C26 -> 0 | L26: =SUM(J26:K26) -> 0 | M26: ='Accounts Receivable-Collections'!S9 -> 0 | N26: ='Accounts Receivable-Collections'!Y9 -> 0 | O26: ='Accounts Receivable-Collections'!AE9 -> 0 | P26: ='Accounts Receivable-Collections'!AK9 -> 0 | Q26: ='Accounts Receivable-Collections'!AQ9 -> 0 | R26: ='Accounts Receivable-Collections'!AW9 -> 0 | S26: ='Accounts Receivable-Collections'!BC9 -> 0 | T26: ='Accounts Receivable-Collections'!BI9 -> 0 | U26: ='Accounts Receivable-Collections'!BO9 -> 0 | V26: ='Accounts Receivable-Collections'!BU9 -> 0 | W26: ='Accounts Receivable-Collections'!CA9 -> 0 | X26: ='Accounts Receivable-Collections'!CG9 -> 0
A27: Out of house dues | B27: ='Membership Record'!H10 -> 0 | C27: ='Membership Record'!Q10 -> 0 | D27: =SUM(B27:C27) -> 0 | F27: =SUM(M27:R27) -> 0 | G27: =SUM(S27:X27) -> 0 | H27: =SUM(F27:G27) -> 0 | J27: =F27-B27 -> 0 | K27: =G27-C27 -> 0 | L27: =SUM(J27:K27) -> 0 | M27: ='Accounts Receivable-Collections'!R9 -> 0 | N27: ='Accounts Receivable-Collections'!X9 -> 0 | O27: ='Accounts Receivable-Collections'!AD9 -> 0 | P27: ='Accounts Receivable-Collections'!AJ9 -> 0 | Q27: ='Accounts Receivable-Collections'!AP9 -> 0 | R27: ='Accounts Receivable-Collections'!AV9 -> 0 | S27: ='Accounts Receivable-Collections'!BB9 -> 0 | T27: ='Accounts Receivable-Collections'!BH9 -> 0 | U27: ='Accounts Receivable-Collections'!BN9 -> 0 | V27: ='Accounts Receivable-Collections'!BT9 -> 0 | W27: ='Accounts Receivable-Collections'!BZ9 -> 0 | X27: ='Accounts Receivable-Collections'!CF9 -> 0
A28: Past Due Rent | B28: ='Membership Record'!K10 -> 0 | C28: ='Membership Record'!T10 -> 0 | D28: =SUM(B28:C28) -> 0 | F28: =SUM(M28:R28) -> 0 | G28: =SUM(S28:X28) -> 0 | H28: =SUM(F28:G28) -> 0 | J28: =F28-B28 -> 0 | K28: =G28-C28 -> 0 | L28: =SUM(J28:K28) -> 0 | M28: ='Accounts Receivable-Collections'!T9 -> 0 | N28: ='Accounts Receivable-Collections'!Z9 -> 0 | O28: ='Accounts Receivable-Collections'!AF9 -> 0 | P28: ='Accounts Receivable-Collections'!AL9 -> 0 | Q28: ='Accounts Receivable-Collections'!AR9 -> 0 | R28: ='Accounts Receivable-Collections'!AX9 -> 0 | S28: ='Accounts Receivable-Collections'!BD9 -> 0 | T28: ='Accounts Receivable-Collections'!BJ9 -> 0 | U28: ='Accounts Receivable-Collections'!BP9 -> 0 | V28: ='Accounts Receivable-Collections'!BV9 -> 0 | W28: ='Accounts Receivable-Collections'!CB9 -> 0 | X28: ='Accounts Receivable-Collections'!CH9 -> 0
A29: Rent/Out of House Dues Total | B29: =SUM(B26:B28) -> 0 | C29: =SUM(C26:C28) -> 0 | D29: =SUM(D26:D28) -> 0 | F29: =SUM(F26:F28) -> 0 | G29: =SUM(G26:G28) -> 0 | H29: =SUM(F29:G29) -> 0 | J29: =SUM(J26:J28) -> 0 | K29: =SUM(K26:K28) -> 0 | L29: =SUM(J29:K29) -> 0 | M29: =SUM(M26:M28) -> 0 | N29: =SUM(N26:N28) -> 0 | O29: =SUM(O26:O28) -> 0 | P29: =SUM(P26:P28) -> 0 | Q29: =SUM(Q26:Q28) -> 0 | R29: =SUM(R26:R28) -> 0 | S29: =SUM(S26:S28) -> 0 | T29: =SUM(T26:T28) -> 0 | ... X29: =SUM(X26:X28) -> 0
A31: Empty Bed Revenue (from Chapter) | B31: ='House-Kitchen Budget Worksheet'!H53 -> 0 | C31: ='House-Kitchen Budget Worksheet'!H54 -> 0 | D31: =SUM(B31:C31) -> 0 | F31: =SUM(M31:R31) -> 0 | G31: =SUM(S31:X31) -> 0 | H31: =SUM(F31:G31) -> 0 | J31: =F31-B31 -> 0 | K31: =G31-C31 -> 0 | L31: =SUM(J31:K31) -> 0 | M31: =SUMIFS('Payment Registry'!C13:C1013,'Payment Registry'!L13:L1013,"Chapter - Empty Bed Transfer (Chapter to Housing)",'Payment Registry'!B13:B1013,"7") -> 0 | N31: =SUMIFS('Payment Registry'!C13:C1013,'Payment Registry'!L13:L1013,"Chapter - Empty Bed Transfer (Chapter to Housing)",'Payment Registry'!B13:B1013,"8") -> 0 | O31: =SUMIFS('Payment Registry'!C13:C1013,'Payment Registry'!L13:L1013,"Chapter - Empty Bed Transfer (Chapter to Housing)",'Payment Registry'!B13:B1013,"9") -> 0 | P31: =SUMIFS('Payment Registry'!C13:C1013,'Payment Registry'!L13:L1013,"Chapter - Empty Bed Transfer (Chapter to Housing)",'Payment Registry'!B13:B1013,"10") -> 0 | Q31: =SUMIFS('Payment Registry'!C13:C1013,'Payment Registry'!L13:L1013,"Chapter - Empty Bed Transfer (Chapter to Housing)",'Payment Registry'!B13:B1013,"11") -> 0 | R31: =SUMIFS('Payment Registry'!C13:C1013,'Payment Registry'!L13:L1013,"Chapter - Empty Bed Transfer (Chapter to Housing)",'Payment Registry'!B13:B1013,"12") -> 0 | S31: =SUMIFS('Payment Registry'!C13:C1013,'Payment Registry'!L13:L1013,"Chapter - Empty Bed Transfer (Chapter to Housing)",'Payment Registry'!B13:B1013,"1") -> 0 | T31: =SUMIFS('Payment Registry'!C13:C1013,'Payment Registry'!L13:L1013,"Chapter - Empty Bed Transfer (Chapter to Housing)",'Payment Registry'!B13:B1013,"2") -> 0 | U31: =SUMIFS('Payment Registry'!C13:C1013,'Payment Registry'!L13:L1013,"Chapter - Empty Bed Transfer (Chapter to Housing)",'Payment Registry'!B13:B1013,"3") -> 0 | V31: =SUMIFS('Payment Registry'!C13:C1013,'Payment Registry'!L13:L1013,"Chapter - Empty Bed Transfer (Chapter to Housing)",'Payment Registry'!B13:B1013,"4") -> 0 | W31: =SUMIFS('Payment Registry'!C13:C1013,'Payment Registry'!L13:L1013,"Chapter - Empty Bed Transfer (Chapter to Housing)",'Payment Registry'!B13:B1013,"5") -> 0 | X31: =SUMIFS('Payment Registry'!C13:C1013,'Payment Registry'!L13:L1013,"Chapter - Empty Bed Transfer (Chapter to Housing)",'Payment Registry'!B13:B1013,"6") -> 0
A33: Other House Revenue | B33: 0 | C33: 0 | D33: =SUM(B33:C33) -> 0 | F33: =SUM(M33:R33) -> 0 | G33: =SUM(S33:X33) -> 0 | H33: =SUM(F33:G33) -> 0 | J33: =F33-B33 -> 0 | K33: =G33-C33 -> 0 | L33: =SUM(J33:K33) -> 0 | M33: ='Accounts Receivable-Collections'!S4 -> 0 | N33: ='Accounts Receivable-Collections'!Y4 -> 0 | O33: ='Accounts Receivable-Collections'!AE4 -> 0 | P33: ='Accounts Receivable-Collections'!AK4 -> 0 | Q33: ='Accounts Receivable-Collections'!AQ4 -> 0 | R33: ='Accounts Receivable-Collections'!AW4 -> 0 | S33: ='Accounts Receivable-Collections'!BC4 -> 0 | T33: ='Accounts Receivable-Collections'!BI4 -> 0 | U33: ='Accounts Receivable-Collections'!BO4 -> 0 | V33: ='Accounts Receivable-Collections'!BU4 -> 0 | W33: ='Accounts Receivable-Collections'!CA4 -> 0 | X33: ='Accounts Receivable-Collections'!CG4 -> 0
A34: Uncollected Adjustment (20%) | B34: =-(B33*0.2) -> 0 | C34: =-(C33*0.2) -> 0 | D34: =SUM(B34:C34) -> 0
A35: Other Housing Revenue Total | B35: =B33+B34 -> 0 | C35: =C33+C34 -> 0 | D35: =SUM(B35:C35) -> 0 | F35: =SUM(F33) -> 0 | G35: =SUM(G33) -> 0 | H35: =SUM(F35:G35) -> 0 | J35: =F35-B35 -> 0 | K35: =G35-C35 -> 0 | L35: =SUM(J35:K35) -> 0 | M35: =SUM(M33) -> 0 | N35: =SUM(N33) -> 0 | O35: =SUM(O33) -> 0 | P35: =SUM(P33) -> 0 | Q35: =SUM(Q33) -> 0 | R35: =SUM(R33) -> 0 | S35: =SUM(S33) -> 0 | T35: =SUM(T33) -> 0 | ... X35: =SUM(X33) -> 0
A37: TOTAL HOUSE OPERATIONS REVENUE | B37: =B24+B29+B31+B35 -> 0 | C37: =C24+C29+C31+C35 -> 0 | D37: =SUM(B37:C37) -> 0 | F37: =F24+F29+F31+F35 -> 0 | G37: =G24+G29+G31+G35 -> 0 | H37: =SUM(F37:G37) -> 0 | J37: =J24+J29+J31+J35 -> 0 | K37: =K24+K29+K31+K35 -> 0 | L37: =SUM(J37:K37) -> 0 | M37: =M24+M29+M31+M35 -> 0 | N37: =N24+N29+N31+N35 -> 0 | O37: =O24+O29+O31+O35 -> 0 | P37: =P24+P29+P31+P35 -> 0 | Q37: =Q24+Q29+Q31+Q35 -> 0 | R37: =R24+R29+R31+R35 -> 0 | S37: =S24+S29+S31+S35 -> 0 | T37: =T24+T29+T31+T35 -> 0 | ... X37: =X24+X29+X31+X35 -> 0
A39: KITCHEN OPERATIONS
A41: Beginning Balance | B41: 0 | C41: =IF(C39="",0,IF(C39="Budgeted fall surplus/(deficit)",B165,IF(C39="Actual fall surplus/(deficit)",F165,0))) -> 0 | F41: =B41 -> 0 | G41: =F165 -> 0
A43: Meal Plan/Kitchen Fee | B43: ='Membership Record'!L10 -> 0 | C43: ='Membership Record'!U10 -> 0 | D43: =SUM(B43:C43) -> 0 | F43: =SUM(M43:R43) -> 0 | G43: =SUM(S43:X43) -> 0 | H43: =SUM(F43:G43) -> 0 | J43: =F43-B43 -> 0 | K43: =G43-C43 -> 0 | L43: =SUM(J43:K43) -> 0 | M43: ='Accounts Receivable-Collections'!U9 -> 0 | N43: ='Accounts Receivable-Collections'!AA9 -> 0 | O43: ='Accounts Receivable-Collections'!AG9 -> 0 | P43: ='Accounts Receivable-Collections'!AM9 -> 0 | Q43: ='Accounts Receivable-Collections'!AS9 -> 0 | R43: ='Accounts Receivable-Collections'!AY9 -> 0 | S43: ='Accounts Receivable-Collections'!BE9 -> 0 | T43: ='Accounts Receivable-Collections'!BK9 -> 0 | U43: ='Accounts Receivable-Collections'!BQ9 -> 0 | V43: ='Accounts Receivable-Collections'!BW9 -> 0 | W43: ='Accounts Receivable-Collections'!CC9 -> 0 | X43: ='Accounts Receivable-Collections'!CI9 -> 0
A45: Other Kitchen Revenue | B45: 0 | C45: 0 | D45: =SUM(B45:C45) -> 0 | F45: =SUM(M45:R45) -> 0 | G45: =SUM(S45:X45) -> 0 | H45: =SUM(F45:G45) -> 0 | J45: =F45-B45 -> 0 | K45: =G45-C45 -> 0 | L45: =SUM(J45:K45) -> 0 | M45: ='Accounts Receivable-Collections'!S5 -> 0 | N45: ='Accounts Receivable-Collections'!Y5 -> 0 | O45: ='Accounts Receivable-Collections'!AE5 -> 0 | P45: ='Accounts Receivable-Collections'!AK5 -> 0 | Q45: ='Accounts Receivable-Collections'!AQ5 -> 0 | R45: ='Accounts Receivable-Collections'!AW5 -> 0 | S45: ='Accounts Receivable-Collections'!BC5 -> 0 | T45: ='Accounts Receivable-Collections'!BI5 -> 0 | U45: ='Accounts Receivable-Collections'!BO5 -> 0 | V45: ='Accounts Receivable-Collections'!BU5 -> 0 | W45: ='Accounts Receivable-Collections'!CA5 -> 0 | X45: ='Accounts Receivable-Collections'!CG5 -> 0
A46: Uncollected Adjustment (20%) | B46: =-(B45*0.2) -> 0 | C46: =-(C45*0.2) -> 0 | D46: =SUM(B46:C46) -> 0
A47: Other Kitchen Revenue Total | B47: =B45+B46 -> 0 | C47: =C45+C46 -> 0 | D47: =SUM(B47:C47) -> 0 | F47: =SUM(F45) -> 0 | G47: =SUM(G45) -> 0 | H47: =SUM(F47:G47) -> 0 | J47: =F47-B47 -> 0 | K47: =G47-C47 -> 0 | L47: =SUM(J47:K47) -> 0 | M47: =SUM(M45) -> 0 | N47: =SUM(N45) -> 0 | O47: =SUM(O45) -> 0 | P47: =SUM(P45) -> 0 | Q47: =SUM(Q45) -> 0 | R47: =SUM(R45) -> 0 | S47: =SUM(S45) -> 0 | T47: =SUM(T45) -> 0 | ... X47: =SUM(X45) -> 0
A49: TOTAL KITCHEN OPERATIONS REVENUE | B49: =B41+B43+B47 -> 0 | C49: =C41+C43+C47 -> 0 | D49: =SUM(B49:C49) -> 0 | F49: =F41+F43+F47 -> 0 | G49: =G41+G43+G47 -> 0 | H49: =SUM(F49:G49) -> 0 | J49: =J41+J43+J47 -> 0 | K49: =K41+K43+K47 -> 0 | L49: =SUM(J49:K49) -> 0 | M49: =M41+M43+M47 -> 0 | N49: =N41+N43+N47 -> 0 | O49: =O41+O43+O47 -> 0 | P49: =P41+P43+P47 -> 0 | Q49: =Q41+Q43+Q47 -> 0 | R49: =R41+R43+R47 -> 0 | S49: =S41+S43+S47 -> 0 | T49: =T41+T43+T47 -> 0 | ... X49: =X41+X43+X47 -> 0
A52: EXPENSES
A53: CHAPTER OPERATIONS
A54: Risk Management | B54: ='Ch Operations Budget Worksheet'!E3 -> 0 | C54: ='Ch Operations Budget Worksheet'!J3 -> 0 | D54: =SUM(B54:C54) -> 0 | F54: =SUM(M54:R54) -> 0 | G54: =SUM(S54:X54) -> 0 | H54: =SUM(F54:G54) -> 0 | J54: =F54-B54 -> 0 | K54: =G54-C54 -> 0 | L54: =H54-D54 -> 0 | M54: =SUMIFS('Payment Registry'!C13:C1013,'Payment Registry'!L13:L1013,"Chapter - Risk Management",'Payment Registry'!B13:B1013,"7") -> 0 | N54: =SUMIFS('Payment Registry'!C13:C1013,'Payment Registry'!L13:L1013,"Chapter - Risk Management",'Payment Registry'!B13:B1013,"8") -> 0 | O54: =SUMIFS('Payment Registry'!C13:C1013,'Payment Registry'!L13:L1013,"Chapter - Risk Management",'Payment Registry'!B13:B1013,"9") -> 0 | P54: =SUMIFS('Payment Registry'!C13:C1013,'Payment Registry'!L13:L1013,"Chapter - Risk Management",'Payment Registry'!B13:B1013,"10") -> 0 | Q54: =SUMIFS('Payment Registry'!C13:C1013,'Payment Registry'!L13:L1013,"Chapter - Risk Management",'Payment Registry'!B13:B1013,"11") -> 0 | R54: =SUMIFS('Payment Registry'!C13:C1013,'Payment Registry'!L13:L1013,"Chapter - Risk Management",'Payment Registry'!B13:B1013,"12") -> 0 | S54: =SUMIFS('Payment Registry'!C13:C1013,'Payment Registry'!L13:L1013,"Chapter - Risk Management",'Payment Registry'!B13:B1013,"1") -> 0 | T54: =SUMIFS('Payment Registry'!C13:C1013,'Payment Registry'!L13:L1013,"Chapter - Risk Management",'Payment Registry'!B13:B1013,"2") -> 0 | U54: =SUMIFS('Payment Registry'!C13:C1013,'Payment Registry'!L13:L1013,"Chapter - Risk Management",'Payment Registry'!B13:B1013,"3") -> 0 | V54: =SUMIFS('Payment Registry'!C13:C1013,'Payment Registry'!L13:L1013,"Chapter - Risk Management",'Payment Registry'!B13:B1013,"4") -> 0 | W54: =SUMIFS('Payment Registry'!C13:C1013,'Payment Registry'!L13:L1013,"Chapter - Risk Management",'Payment Registry'!B13:B1013,"5") -> 0 | X54: =SUMIFS('Payment Registry'!C13:C1013,'Payment Registry'!L13:L1013,"Chapter - Risk Management",'Payment Registry'!B13:B1013,"6") -> 0
A55: Initiate Dues | B55: ='Ch Operations Budget Worksheet'!E6 -> 0 | C55: ='Ch Operations Budget Worksheet'!J6 -> 0 | D55: =SUM(B55:C55) -> 0 | F55: =SUM(M55:R55) -> 0 | G55: =SUM(S55:X55) -> 0 | H55: =SUM(F55:G55) -> 0 | J55: =F55-B55 -> 0 | K55: =G55-C55 -> 0 | L55: =H55-D55 -> 0 | M55: =SUMIFS('Payment Registry'!C13:C1013,'Payment Registry'!L13:L1013,"Chapter - Initiate Dues",'Payment Registry'!B13:B1013,"7") -> 0 | N55: =SUMIFS('Payment Registry'!C13:C1013,'Payment Registry'!L13:L1013,"Chapter - Initiate Dues",'Payment Registry'!B13:B1013,"8") -> 0 | O55: =SUMIFS('Payment Registry'!C13:C1013,'Payment Registry'!L13:L1013,"Chapter - Initiate Dues",'Payment Registry'!B13:B1013,"9") -> 0 | P55: =SUMIFS('Payment Registry'!C13:C1013,'Payment Registry'!L13:L1013,"Chapter - Initiate Dues",'Payment Registry'!B13:B1013,"10") -> 0 | Q55: =SUMIFS('Payment Registry'!C13:C1013,'Payment Registry'!L13:L1013,"Chapter - Initiate Dues",'Payment Registry'!B13:B1013,"11") -> 0 | R55: =SUMIFS('Payment Registry'!C13:C1013,'Payment Registry'!L13:L1013,"Chapter - Initiate Dues",'Payment Registry'!B13:B1013,"12") -> 0 | S55: =SUMIFS('Payment Registry'!C13:C1013,'Payment Registry'!L13:L1013,"Chapter - Initiate Dues",'Payment Registry'!B13:B1013,"1") -> 0 | T55: =SUMIFS('Payment Registry'!C13:C1013,'Payment Registry'!L13:L1013,"Chapter - Initiate Dues",'Payment Registry'!B13:B1013,"2") -> 0 | U55: =SUMIFS('Payment Registry'!C13:C1013,'Payment Registry'!L13:L1013,"Chapter - Initiate Dues",'Payment Registry'!B13:B1013,"3") -> 0 | V55: =SUMIFS('Payment Registry'!C13:C1013,'Payment Registry'!L13:L1013,"Chapter - Initiate Dues",'Payment Registry'!B13:B1013,"4") -> 0 | W55: =SUMIFS('Payment Registry'!C13:C1013,'Payment Registry'!L13:L1013,"Chapter - Initiate Dues",'Payment Registry'!B13:B1013,"5") -> 0 | X55: =SUMIFS('Payment Registry'!C13:C1013,'Payment Registry'!L13:L1013,"Chapter - Initiate Dues",'Payment Registry'!B13:B1013,"6") -> 0
A56: Conclave Fee | B56: ='Ch Operations Budget Worksheet'!E11 -> 1400 | C56: ='Ch Operations Budget Worksheet'!J11 -> 1400 | D56: =SUM(B56:C56) -> 2800 | F56: =SUM(M56:R56) -> 0 | G56: =SUM(S56:X56) -> 0 | H56: =SUM(F56:G56) -> 0 | J56: =F56-B56 -> -1400 | K56: =G56-C56 -> -1400 | L56: =H56-D56 -> -2800 | M56: =SUMIFS('Payment Registry'!C13:C1013,'Payment Registry'!L13:L1013,"Chapter - Conclave Fee",'Payment Registry'!B13:B1013,"7") -> 0 | N56: =SUMIFS('Payment Registry'!C13:C1013,'Payment Registry'!L13:L1013,"Chapter - Conclave Fee",'Payment Registry'!B13:B1013,"8") -> 0 | O56: =SUMIFS('Payment Registry'!C13:C1013,'Payment Registry'!L13:L1013,"Chapter - Conclave Fee",'Payment Registry'!B13:B1013,"9") -> 0 | P56: =SUMIFS('Payment Registry'!C13:C1013,'Payment Registry'!L13:L1013,"Chapter - Conclave Fee",'Payment Registry'!B13:B1013,"10") -> 0 | Q56: =SUMIFS('Payment Registry'!C13:C1013,'Payment Registry'!L13:L1013,"Chapter - Conclave Fee",'Payment Registry'!B13:B1013,"11") -> 0 | R56: =SUMIFS('Payment Registry'!C13:C1013,'Payment Registry'!L13:L1013,"Chapter - Conclave Fee",'Payment Registry'!B13:B1013,"12") -> 0 | S56: =SUMIFS('Payment Registry'!C13:C1013,'Payment Registry'!L13:L1013,"Chapter - Conclave Fee",'Payment Registry'!B13:B1013,"1") -> 0 | T56: =SUMIFS('Payment Registry'!C13:C1013,'Payment Registry'!L13:L1013,"Chapter - Conclave Fee",'Payment Registry'!B13:B1013,"2") -> 0 | U56: =SUMIFS('Payment Registry'!C13:C1013,'Payment Registry'!L13:L1013,"Chapter - Conclave Fee",'Payment Registry'!B13:B1013,"3") -> 0 | V56: =SUMIFS('Payment Registry'!C13:C1013,'Payment Registry'!L13:L1013,"Chapter - Conclave Fee",'Payment Registry'!B13:B1013,"4") -> 0 | W56: =SUMIFS('Payment Registry'!C13:C1013,'Payment Registry'!L13:L1013,"Chapter - Conclave Fee",'Payment Registry'!B13:B1013,"5") -> 0 | X56: =SUMIFS('Payment Registry'!C13:C1013,'Payment Registry'!L13:L1013,"Chapter - Conclave Fee",'Payment Registry'!B13:B1013,"6") -> 0
A57: GreekLifeEdu Surcharge | B57: ='Ch Operations Budget Worksheet'!E14 -> 0 | D57: =SUM(B57:C57) -> 0 | F57: =SUM(M57:R57) -> 0 | G57: =SUM(S57:X57) -> 0 | H57: =SUM(F57:G57) -> 0 | J57: =F57-B57 -> 0 | K57: =G57-C57 -> 0 | L57: =H57-D57 -> 0 | M57: =SUMIFS('Payment Registry'!C13:C1013,'Payment Registry'!L13:L1013,"Chapter - GreekLifeEdu Surcharge",'Payment Registry'!B13:B1013,"7") -> 0 | N57: =SUMIFS('Payment Registry'!C13:C1013,'Payment Registry'!L13:L1013,"Chapter - GreekLifeEdu Surcharge",'Payment Registry'!B13:B1013,"8") -> 0 | O57: =SUMIFS('Payment Registry'!C13:C1013,'Payment Registry'!L13:L1013,"Chapter - GreekLifeEdu Surcharge",'Payment Registry'!B13:B1013,"9") -> 0 | P57: =SUMIFS('Payment Registry'!C13:C1013,'Payment Registry'!L13:L1013,"Chapter - GreekLifeEdu Surcharge",'Payment Registry'!B13:B1013,"10") -> 0 | Q57: =SUMIFS('Payment Registry'!C13:C1013,'Payment Registry'!L13:L1013,"Chapter - GreekLifeEdu Surcharge",'Payment Registry'!B13:B1013,"11") -> 0 | R57: =SUMIFS('Payment Registry'!C13:C1013,'Payment Registry'!L13:L1013,"Chapter - GreekLifeEdu Surcharge",'Payment Registry'!B13:B1013,"12") -> 0 | S57: =SUMIFS('Payment Registry'!C13:C1013,'Payment Registry'!L13:L1013,"Chapter - GreekLifeEdu Surcharge",'Payment Registry'!B13:B1013,"1") -> 0 | T57: =SUMIFS('Payment Registry'!C13:C1013,'Payment Registry'!L13:L1013,"Chapter - GreekLifeEdu Surcharge",'Payment Registry'!B13:B1013,"2") -> 0 | U57: =SUMIFS('Payment Registry'!C13:C1013,'Payment Registry'!L13:L1013,"Chapter - GreekLifeEdu Surcharge",'Payment Registry'!B13:B1013,"3") -> 0 | V57: =SUMIFS('Payment Registry'!C13:C1013,'Payment Registry'!L13:L1013,"Chapter - GreekLifeEdu Surcharge",'Payment Registry'!B13:B1013,"4") -> 0 | W57: =SUMIFS('Payment Registry'!C13:C1013,'Payment Registry'!L13:L1013,"Chapter - GreekLifeEdu Surcharge",'Payment Registry'!B13:B1013,"5") -> 0 | X57: =SUMIFS('Payment Registry'!C13:C1013,'Payment Registry'!L13:L1013,"Chapter - GreekLifeEdu Surcharge",'Payment Registry'!B13:B1013,"6") -> 0
...

Sheet Candidate-Initiation Fee Tracke
E1: CANDIDATE FEES | K1: INITIATION FEES
AC2: Yes
F3: FEES OWED | L3: FEES OWED | AC3: No
F4: =SUMIF(F7:F306,"No",E7:E306) -> 0 | L4: =SUMIF(L7:L306,"No",K7:K306) -> 0
B6: Name | D6: Membership Status | E6: Candidate Fee | F6: Paid | G6: Date Paid | I6: Ceremony Date | K6: Initiation Fee | L6: Paid | M6: Date Paid | O6: Ceremony Date | P6: Badge Number
A7: 1 | B7: ='Membership Record'!B11 -> 0 | D7: =IF('Membership Record'!N11="",'Membership Record'!E11,'Membership Record'!N11) -> 0 | E7: =IF(D7="Candidate",100,IF(F7="No",100,"")) | K7: =IF(D7="Candidate",230,IF(L7="No",230,""))
A8: =A7+1 -> 2 | B8: ='Membership Record'!B12 -> 0 | D8: =IF('Membership Record'!N12="",'Membership Record'!E12,'Membership Record'!N12) -> 0 | E8: =IF(D8="Candidate",100,IF(F8="No",100,"")) | K8: =IF(D8="Candidate",230,IF(L8="No",230,""))
A9: =A8+1 -> 3 | B9: ='Membership Record'!B13 -> 0 | D9: =IF('Membership Record'!N13="",'Membership Record'!E13,'Membership Record'!N13) -> 0 | E9: =IF(D9="Candidate",100,IF(F9="No",100,"")) | K9: =IF(D9="Candidate",230,IF(L9="No",230,""))
A10: =A9+1 -> 4 | B10: ='Membership Record'!B14 -> 0 | D10: =IF('Membership Record'!N14="",'Membership Record'!E14,'Membership Record'!N14) -> 0 | E10: =IF(D10="Candidate",100,IF(F10="No",100,"")) | K10: =IF(D10="Candidate",230,IF(L10="No",230,""))
A11: =A10+1 -> 5 | B11: ='Membership Record'!B15 -> 0 | D11: =IF('Membership Record'!N15="",'Membership Record'!E15,'Membership Record'!N15) -> 0 | E11: =IF(D11="Candidate",100,IF(F11="No",100,"")) | K11: =IF(D11="Candidate",230,IF(L11="No",230,""))
A12: =A11+1 -> 6 | B12: ='Membership Record'!B16 -> 0 | D12: =IF('Membership Record'!N16="",'Membership Record'!E16,'Membership Record'!N16) -> 0 | E12: =IF(D12="Candidate",100,IF(F12="No",100,"")) | K12: =IF(D12="Candidate",230,IF(L12="No",230,""))
A13: =A12+1 -> 7 | B13: ='Membership Record'!B17 -> 0 | D13: =IF('Membership Record'!N17="",'Membership Record'!E17,'Membership Record'!N17) -> 0 | E13: =IF(D13="Candidate",100,IF(F13="No",100,"")) | K13: =IF(D13="Candidate",230,IF(L13="No",230,""))
A14: =A13+1 -> 8 | B14: ='Membership Record'!B18 -> 0 | D14: =IF('Membership Record'!N18="",'Membership Record'!E18,'Membership Record'!N18) -> 0 | E14: =IF(D14="Candidate",100,IF(F14="No",100,"")) | K14: =IF(D14="Candidate",230,IF(L14="No",230,""))
A15: =A14+1 -> 9 | B15: ='Membership Record'!B19 -> 0 | D15: =IF('Membership Record'!N19="",'Membership Record'!E19,'Membership Record'!N19) -> 0 | E15: =IF(D15="Candidate",100,IF(F15="No",100,"")) | K15: =IF(D15="Candidate",230,IF(L15="No",230,""))
A16: =A15+1 -> 10 | B16: ='Membership Record'!B20 -> 0 | D16: =IF('Membership Record'!N20="",'Membership Record'!E20,'Membership Record'!N20) -> 0 | E16: =IF(D16="Candidate",100,IF(F16="No",100,"")) | K16: =IF(D16="Candidate",230,IF(L16="No",230,""))
A17: =A16+1 -> 11 | B17: ='Membership Record'!B21 -> 0 | D17: =IF('Membership Record'!N21="",'Membership Record'!E21,'Membership Record'!N21) -> 0 | E17: =IF(D17="Candidate",100,IF(F17="No",100,"")) | K17: =IF(D17="Candidate",230,IF(L17="No",230,""))
A18: =A17+1 -> 12 | B18: ='Membership Record'!B22 -> 0 | D18: =IF('Membership Record'!N22="",'Membership Record'!E22,'Membership Record'!N22) -> 0 | E18: =IF(D18="Candidate",100,IF(F18="No",100,"")) | K18: =IF(D18="Candidate",230,IF(L18="No",230,""))
A19: =A18+1 -> 13 | B19: ='Membership Record'!B23 -> 0 | D19: =IF('Membership Record'!N23="",'Membership Record'!E23,'Membership Record'!N23) -> 0 | E19: =IF(D19="Candidate",100,IF(F19="No",100,"")) | K19: =IF(D19="Candidate",230,IF(L19="No",230,""))
... A33: =A32+1 -> 27 | B33: ='Membership Record'!B37 -> 0 | D33: =IF('Membership Record'!N37="",'Membership Record'!E37,'Membership Record'!N37) -> 0 | E33: =IF(D33="Candidate",100,IF(F33="No",100,"")) | K33: =IF(D33="Candidate",230,IF(L33="No",230,""))
A34: =A33+1 -> 28 | B34: ='Membership Record'!B38 -> 0 | D34: =IF('Membership Record'!N38="",'Membership Record'!E38,'Membership Record'!N38) -> 0 | E34: =IF(D34="Candidate",100,IF(F34="No",100,"")) | H34: =MONTH(G34) -> 1 | K34: =IF(D34="Candidate",230,IF(L34="No",230,""))
A35: =A34+1 -> 29 | B35: ='Membership Record'!B39 -> 0 | D35: =IF('Membership Record'!N39="",'Membership Record'!E39,'Membership Record'!N39) -> 0 | E35: =IF(D35="Candidate",100,IF(F35="No",100,"")) | H35: =MONTH(G35) -> 1 | K35: =IF(D35="Candidate",230,IF(L35="No",230,"")) | N35: =MONTH(M35) -> 1
A36: =A35+1 -> 30 | B36: ='Membership Record'!B40 -> 0 | D36: =IF('Membership Record'!N40="",'Membership Record'!E40,'Membership Record'!N40) -> 0 | E36: =IF(D36="Candidate",100,IF(F36="No",100,"")) | H36: =MONTH(G36) -> 1 | K36: =IF(D36="Candidate",230,IF(L36="No",230,"")) | N36: =MONTH(M36) -> 1
A37: =A36+1 -> 31 | B37: ='Membership Record'!B41 -> 0 | D37: =IF('Membership Record'!N41="",'Membership Record'!E41,'Membership Record'!N41) -> 0 | E37: =IF(D37="Candidate",100,IF(F37="No",100,"")) | H37: =MONTH(G37) -> 1 | K37: =IF(D37="Candidate",230,IF(L37="No",230,"")) | N37: =MONTH(M37) -> 1
A38: =A37+1 -> 32 | B38: ='Membership Record'!B42 -> 0 | D38: =IF('Membership Record'!N42="",'Membership Record'!E42,'Membership Record'!N42) -> 0 | E38: =IF(D38="Candidate",100,IF(F38="No",100,"")) | H38: =MONTH(G38) -> 1 | K38: =IF(D38="Candidate",230,IF(L38="No",230,"")) | N38: =MONTH(M38) -> 1
A39: =A38+1 -> 33 | B39: ='Membership Record'!B43 -> 0 | D39: =IF('Membership Record'!N43="",'Membership Record'!E43,'Membership Record'!N43) -> 0 | E39: =IF(D39="Candidate",100,IF(F39="No",100,"")) | H39: =MONTH(G39) -> 1 | K39: =IF(D39="Candidate",230,IF(L39="No",230,"")) | N39: =MONTH(M39) -> 1
A40: =A39+1 -> 34 | B40: ='Membership Record'!B44 -> 0 | D40: =IF('Membership Record'!N44="",'Membership Record'!E44,'Membership Record'!N44) -> 0 | E40: =IF(D40="Candidate",100,IF(F40="No",100,"")) | H40: =MONTH(G40) -> 1 | K40: =IF(D40="Candidate",230,IF(L40="No",230,"")) | N40: =MONTH(M40) -> 1
A41: =A40+1 -> 35 | B41: ='Membership Record'!B45 -> 0 | D41: =IF('Membership Record'!N45="",'Membership Record'!E45,'Membership Record'!N45) -> 0 | E41: =IF(D41="Candidate",100,IF(F41="No",100,"")) | H41: =MONTH(G41) -> 1 | K41: =IF(D41="Candidate",230,IF(L41="No",230,"")) | N41: =MONTH(M41) -> 1
A42: =A41+1 -> 36 | B42: ='Membership Record'!B46 -> 0 | D42: =IF('Membership Record'!N46="",'Membership Record'!E46,'Membership Record'!N46) -> 0 | E42: =IF(D42="Candidate",100,IF(F42="No",100,"")) | H42: =MONTH(G42) -> 1 | K42: =IF(D42="Candidate",230,IF(L42="No",230,"")) | N42: =MONTH(M42) -> 1
A43: =A42+1 -> 37 | B43: ='Membership Record'!B47 -> 0 | D43: =IF('Membership Record'!N47="",'Membership Record'!E47,'Membership Record'!N47) -> 0 | E43: =IF(D43="Candidate",100,IF(F43="No",100,"")) | H43: =MONTH(G43) -> 1 | K43: =IF(D43="Candidate",230,IF(L43="No",230,"")) | N43: =MONTH(M43) -> 1
A44: =A43+1 -> 38 | B44: ='Membership Record'!B48 -> 0 | D44: =IF('Membership Record'!N48="",'Membership Record'!E48,'Membership Record'!N48) -> 0 | E44: =IF(D44="Candidate",100,IF(F44="No",100,"")) | H44: =MONTH(G44) -> 1 | K44: =IF(D44="Candidate",230,IF(L44="No",230,"")) | N44: =MONTH(M44) -> 1
A45: =A44+1 -> 39 | B45: ='Membership Record'!B49 -> 0 | D45: =IF('Membership Record'!N49="",'Membership Record'!E49,'Membership Record'!N49) -> 0 | E45: =IF(D45="Candidate",100,IF(F45="No",100,"")) | H45: =MONTH(G45) -> 1 | K45: =IF(D45="Candidate",230,IF(L45="No",230,"")) | N45: =MONTH(M45) -> 1
A46: =A45+1 -> 40 | B46: ='Membership Record'!B50 -> 0 | D46: =IF('Membership Record'!N50="",'Membership Record'!E50,'Membership Record'!N50) -> 0 | E46: =IF(D46="Candidate",100,IF(F46="No",100,"")) | H46: =MONTH(G46) -> 1 | K46: =IF(D46="Candidate",230,IF(L46="No",230,"")) | N46: =MONTH(M46) -> 1
... A306: =A305+1 -> 300 | B306: ='Membership Record'!B310 -> 0 | D306: =IF('Membership Record'!N310="",'Membership Record'!E310,'Membership Record'!N310) -> 0 | E306: =IF(D306="Candidate",100,IF(F306="No",100,"")) | H306: =MONTH(G306) -> 1 | K306: =IF(D306="Candidate",230,IF(L306="No",230,"")) | N306: =MONTH(M306) -> 1

Sheet Accounts Receivable-Collections
D1: MEMBER DUES | F1: OUT OF HOUSE DUES | H1: PAST DUES | J1: RENT | L1: PAST RENT | N1: MEAL PLAN/KITCHEN FEE | P1: July | V1: August | AB1: September | AH1: October | AN1: November | AT1: December | AZ1: January | BF1: February | BL1: March | BR1: April | BX1: May | CD1: June
A3: Collection Rate - To Date | D3: =IF(ISERROR(E9/D9),0,E9/D9) -> 0 | F3: =IF(ISERROR(G9/F9),0,G9/F9) -> 0 | H3: =IF(ISERROR(I9/H9),0,I9/H9) -> 0 | J3: =IF(ISERROR(K9/J9),0,K9/J9) -> 0 | L3: =IF(ISERROR(M9/L9),0,M9/L9) -> 0 | N3: =IF(ISERROR(O9/N9),0,O9/N9) -> 0 | P3: Chapter Ops - Other Revenue | S3: 0 | V3: Chapter Ops - Other Revenue | Y3: 0 | AB3: Chapter Ops - Other Revenue | AE3: 0 | AH3: Chapter Ops - Other Revenue | AK3: 0 | AN3: Chapter Ops - Other Revenue | AQ3: 0 | AT3: Chapter Ops - Other Revenue | AW3: 0 | AZ3: Chapter Ops - Other Revenue | BC3: 0 | BF3: Chapter Ops - Other Revenue | BI3: 0 | BL3: Chapter Ops - Other Revenue | BO3: 0 | BR3: Chapter Ops - Other Revenue | BU3: 0 | BX3: Chapter Ops - Other Revenue | CA3: 0 | CD3: Chapter Ops - Other Revenue | CG3: 0
A4: Fall Collection | D4: =P9+V9+AB9+AH9+AN9+AT9 -> 0 | F4: =R9+X9+AD9+AJ9+AP9+AV9 -> 0 | H4: =Q9+W9+AC9+AI9+AO9+AU9 -> 0 | J4: =S9+Y9+AE9+AK9+AQ9+AW9 -> 0 | L4: =T9+Z9+AF9+AL9+AR9+AX9 -> 0 | N4: =U9+AA9+AG9+AM9+AS9+AY9 -> 0 | P4: Housing Ops - Other Revenue | S4: 0 | V4: Housing Ops - Other Revenue | Y4: 0 | AB4: Housing Ops - Other Revenue | AE4: 0 | AH4: Housing Ops - Other Revenue | AK4: 0 | AN4: Housing Ops - Other Revenue | AQ4: 0 | AT4: Housing Ops - Other Revenue | AW4: 0 | AZ4: Housing Ops - Other Revenue | BC4: 0 | BF4: Housing Ops - Other Revenue | BI4: 0 | BL4: Housing Ops - Other Revenue | BO4: 0 | BR4: Housing Ops - Other Revenue | BU4: 0 | BX4: Housing Ops - Other Revenue | CA4: 0 | CD4: Housing Ops - Other Revenue | CG4: 0
A5: Spring Collection | D5: =AZ9+BF9+BL9+BR9+BX9+CD9 -> 0 | F5: =BB9+BH9+BN9+BT9+BZ9+CF9 -> 0 | H5: =BA9+BG9+BM9+BS9+BY9+CE9 -> 0 | J5: =BC9+BI9+BO9+BU9+CA9+CG9 -> 0 | L5: =BD9+BJ9+BP9+BV9+CB9+CH9 -> 0 | N5: =BE9+BK9+BQ9+BW9+CC9+CI9 -> 0 | P5: Meal/Kitchen - Other Revenue | S5: 0 | V5: Meal/Kitchen - Other Revenue | Y5: 0 | AB5: Meal/Kitchen - Other Revenue | AE5: 0 | AH5: Meal/Kitchen - Other Revenue | AK5: 0 | AN5: Meal/Kitchen - Other Revenue | AQ5: 0 | AT5: Meal/Kitchen - Other Revenue | AW5: 0 | AZ5: Meal/Kitchen - Other Revenue | BC5: 0 | BF5: Meal/Kitchen - Other Revenue | BI5: 0 | BL5: Meal/Kitchen - Other Revenue | BO5: 0 | BR5: Meal/Kitchen - Other Revenue | BU5: 0 | BX5: Meal/Kitchen - Other Revenue | CA5: 0 | CD5: Meal/Kitchen - Other Revenue | CG5: 0
P6: Dues | S6: Rent | U6: Meal/Kitchen | V6: Dues | Y6: Rent | AA6: Meal/Kitchen | AB6: Dues | AE6: Rent | AG6: Meal/Kitchen | AH6: Dues | AK6: Rent | AM6: Meal/Kitchen | AN6: Dues | AQ6: Rent | AS6: Meal/Kitchen | AT6: Dues | AW6: Rent | AY6: Meal/Kitchen | AZ6: Dues | BC6: Rent | BE6: Meal/Kitchen | BF6: Dues | BI6: Rent | BK6: Meal/Kitchen | BL6: Dues | BO6: Rent | BQ6: Meal/Kitchen | BR6: Dues | BU6: Rent | BW6: Meal/Kitchen | BX6: Dues | CA6: Rent | CC6: Meal/Kitchen | CD6: Dues | CG6: Rent | CI6: Meal/Kitchen
D7: Billed To Date | E7: Paid To Date | F7: Billed To Date | G7: Paid To Date | H7: Owed To Date | I7: Paid To Date | J7: Billed To Date | K7: Paid To Date | L7: Owed To Date | M7: Paid To Date | N7: Billed to Date | O7: Paid To Date | P7: =SUM(P9:R9) -> 0 | S7: =SUM(S9:T9) -> 0 | U7: =U9 -> 0 | V7: =SUM(V9:X9) -> 0 | Y7: =SUM(Y9:Z9) -> 0 | AA7: =AA9 -> 0 | AB7: =SUM(AB9:AD9) -> 0 | AE7: =SUM(AE9:AF9) -> 0 | AG7: =AG9 -> 0 | AH7: =SUM(AH9:AJ9) -> 0 | AK7: =SUM(AK9:AL9) -> 0 | AM7: =AM9 -> 0 | AN7: =SUM(AN9:AP9) -> 0 | AQ7: =SUM(AQ9:AR9) -> 0 | AS7: =AS9 -> 0 | AT7: =SUM(AT9:AV9) -> 0 | AW7: =SUM(AW9:AX9) -> 0 | AY7: =AY9 -> 0 | AZ7: =SUM(AZ9:BB9) -> 0 | BC7: =SUM(BC9:BD9) -> 0 | BE7: =BE9 -> 0 | BF7: =SUM(BF9:BH9) -> 0 | BI7: =SUM(BI9:BJ9) -> 0 | BK7: =BK9 -> 0 | BL7: =SUM(BL9:BN9) -> 0 | BO7: =SUM(BO9:BP9) -> 0 | BQ7: =BQ9 -> 0 | BR7: =SUM(BR9:BT9) -> 0 | BU7: =SUM(BU9:BV9) -> 0 | BW7: =BW9 -> 0 | BX7: =SUM(BX9:BZ9) -> 0 | CA7: =SUM(CA9:CB9) -> 0 | CC7: =CC9 -> 0 | CD7: =SUM(CD9:CF9) -> 0 | CG7: =SUM(CG9:CH9) -> 0 | CI7: =CI9 -> 0
